BEGIN:VCALENDAR
PRODID:-//eluceo/ical//2.0/EN
VERSION:2.0
CALSCALE:GREGORIAN
BEGIN:VEVENT
UID:7a16e9efdd6d9353c730e222d7f269d3
DTSTAMP:20260424T080244Z
SUMMARY:Ensemble vocal Cantamabile
DESCRIPTION:"Ce sont galants" de C. Jannequin "J'ai le rebourd" de P. Crett
 on "Fire Fire" de T. Moriey "Bogoroditse Dièvo" de Rachmaninov "Let my li
 ght shine bright" de L. Maierhofer
URL:https://sion.rotary1990.ch/es/agenda/show/12310
DTSTART;TZID=Europe/Zurich:20090722T120000
DTEND;TZID=Europe/Zurich:20090722T120000
LOCATION:Restaurant des Iles
CATEGORIES:Rotary
END:VEVENT
BEGIN:VTIMEZONE
TZID:Europe/Zurich
BEGIN:DAYLIGHT
DTSTART:20090722T120000
TZNAME:CEST
TZOFFSETTO:+0200
TZOFFSETFROM:+0200
END:DAYLIGHT
END:VTIMEZONE
END:VCALENDAR
